BEGIN:VCALENDAR
VERSION:2.0
PRODID:-//81.174.234.229//NONSGML kigkonsult.se iCalcreator 2.20//
CALSCALE:GREGORIAN
METHOD:PUBLISH
X-WR-TIMEZONE:UTC
BEGIN:VEVENT
UID:event194@TLT
DTSTAMP:20260425T182214Z
CATEGORIES:TLT supported event
DESCRIPTION:Repair Café header\nCategory: TLT supported event\nLink: http:/
 /transitionllandrindod.org.uk/index.php?option=com_jem&view=event&id=194:r
 epair-cafe-header\n
DTSTART:20260411T140000Z
DTEND:20260411T170000Z
LOCATION:Centre CELF\,Tremont Road\,LD1 5EB Llandrindod Wells
SUMMARY:Repair Café header
URL:http://transitionllandrindod.org.uk/index.php?option=com_jem&view=event
 &id=194:repair-cafe-header
END:VEVENT
END:VCALENDAR
