BEGIN:VCALENDAR
VERSION:2.0
PRODID:-//81.174.234.229//NONSGML kigkonsult.se iCalcreator 2.20//
CALSCALE:GREGORIAN
METHOD:PUBLISH
X-WR-TIMEZONE:UTC
BEGIN:VEVENT
UID:event56@TLT
DTSTAMP:20260421T091205Z
CATEGORIES:TLT Social Meeting
DESCRIPTION:The Web of Life - Social Meeting\nCategory: TLT Social Meeting
 \nLink: http://transitionllandrindod.org.uk/index.php?option=com_jem&view=
 event&id=56:the-web-of-life-social-meeting\n
DTSTART:20160223T190000Z
DTEND:20160223T210000Z
LOCATION:Herb Garden Café\,5 Spa Centre\, Station Crescent\,LD1 5BB Llandri
 ndod Wells
SUMMARY:The Web of Life - Social Meeting
URL:http://transitionllandrindod.org.uk/index.php?option=com_jem&view=event
 &id=56:the-web-of-life-social-meeting
END:VEVENT
END:VCALENDAR
