BEGIN:VCALENDAR
VERSION:2.0
PRODID:-//81.174.234.229//NONSGML kigkonsult.se iCalcreator 2.20//
CALSCALE:GREGORIAN
METHOD:PUBLISH
X-WR-TIMEZONE:UTC
BEGIN:VEVENT
UID:event57@TLT
DTSTAMP:20260421T104145Z
CATEGORIES:TLT Social Meeting
DESCRIPTION:Natural Beekeeping - Social Meeting\nCategory: TLT Social Meeti
 ng\nLink: http://transitionllandrindod.org.uk/index.php?option=com_jem&vie
 w=event&id=57:natural-beekeeping-social-meeting\n
DTSTART:20160322T190000Z
DTEND:20160322T210000Z
LOCATION:Herb Garden Café\,5 Spa Centre\, Station Crescent\,LD1 5BB Llandri
 ndod Wells
SUMMARY:Natural Beekeeping - Social Meeting
URL:http://transitionllandrindod.org.uk/index.php?option=com_jem&view=event
 &id=57:natural-beekeeping-social-meeting
END:VEVENT
END:VCALENDAR
